BEGIN:VCALENDAR
VERSION:2.0
PRODID:-//Tukios.com/
BEGIN:VEVENT
UID:7b2c2611-d0cc-49c8-8337-1e1547fc8a58@www.edafh.com
DTSTAMP:20260422T231152Z
DTSTART:20260425T143000Z
DTEND:20260425T163000Z
SUMMARY:Visitation
DESCRIPTION:
URL:https://www.edafh.com/obituaries/dennis-ridout
LOCATION:Erwin-Dodson-Allen Funeral Home 6710 Swauger Valley Rd.  Minford 
	OH 45653
GEO:38.856702;-82.8620494
END:VEVENT
END:VCALENDAR