BEGIN:VCALENDAR
VERSION:2.0
PRODID:-//Tukios.com/
BEGIN:VEVENT
UID:839044e6-d25f-4f54-b11b-9dfd6355e09b@www.edafh.com
DTSTAMP:20260422T231127Z
DTSTART:20260425T163000Z
DTEND:20260425T173000Z
SUMMARY:Funeral Service
DESCRIPTION:
URL:https://www.edafh.com/obituaries/dennis-ridout
LOCATION:Erwin-Dodson-Allen Funeral Home 6710 Swauger Valley Rd.  Minford 
	OH 45653
GEO:38.856702;-82.8620494
END:VEVENT
END:VCALENDAR