BEGIN:VCALENDAR
VERSION:2.0
PRODID:-//Tukios.com/
BEGIN:VEVENT
UID:4d69e13e-7f19-4e55-96f4-0d689855f6d8@www.edafh.com
DTSTAMP:20260422T025349Z
DTSTART:20260426T180000Z
DTEND:20260426T190000Z
SUMMARY:Funeral Service
DESCRIPTION:
URL:https://www.edafh.com/obituaries/roscoe-webb
LOCATION: 6710 Swauger Valley Rd.  Minford OH 45653
GEO:38.856702;-82.8620494
END:VEVENT
END:VCALENDAR