BEGIN:VCALENDAR
VERSION:2.0
PRODID:-//Tukios.com/
BEGIN:VEVENT
UID:c3c148ba-da50-49ed-a206-0144acb9a6d3@www.edafh.com
DTSTAMP:20260422T025242Z
DTSTART:20260425T210000Z
DTEND:20260425T230000Z
SUMMARY:Visitation
DESCRIPTION:
URL:https://www.edafh.com/obituaries/roscoe-webb
LOCATION: 6710 Swauger Valley Rd.  Minford OH 45653
GEO:38.856702;-82.8620494
END:VEVENT
END:VCALENDAR