BEGIN:VCALENDAR
VERSION:2.0
PRODID:-//Tukios.com/
BEGIN:VEVENT
UID:78429c70-eb1d-4226-a864-9bcd26764f84@www.edafh.com
DTSTAMP:20260422T025209Z
DTSTART:20260426T170000Z
DTEND:20260426T180000Z
SUMMARY:Visitation
DESCRIPTION:
URL:https://www.edafh.com/obituaries/roscoe-webb
LOCATION: 6710 Swauger Valley Rd.  Minford OH 45653
GEO:38.856702;-82.8620494
END:VEVENT
END:VCALENDAR